BEGIN:VCALENDAR
VERSION:2.0
PRODID:-//ChamberMaster//Event Calendar 2.0//EN
METHOD:PUBLISH
X-PUBLISHED-TTL:P3D
REFRESH-INTERVAL:P3D
CALSCALE:GREGORIAN
BEGIN:VEVENT
DTSTART;VALUE=DATE:20220209
DTEND;VALUE=DATE:20220210
TRANSP:TRANSPARENT
X-MICROSOFT-CDO-ALLDAYEVENT:TRUE
SUMMARY:Canada 360° Economic Summit
DESCRIPTION:The Canadian Chamber of Commerce's annual Canada 360  Economic Summit works to mobilize the Canadian business community to apply its ingenuity to find the bold policy solutions needed for Canada to compete in a changing economic landscape.\n\n\n\nClick here for more information
X-ALT-DESC;FMTTYPE=text/html:<span style="font-family:arial\;"><span style="color: rgb(109\, 109\, 109)\; font-size: 16px\;">The Canadian Chamber of Commerce&#39\;s annual Canada 360&deg\; Economic Summit works to mobilize the Canadian business community to apply its ingenuity to find the bold policy solutions needed for Canada to compete in a changing economic landscape.<br />\n<br />\nClick <strong><a href="https://chamber.ca/event/canada-360-summit/">here</a></strong> for more information</span></span>
LOCATION:
UID:e.2985.173
SEQUENCE:3
DTSTAMP:20260422T033654Z
URL:https://www.ssmcoc.com/events/details/canada-360-economic-summit-173
END:VEVENT

END:VCALENDAR
