BEGIN:VCALENDAR
VERSION:2.0
PRODID:-//ChamberMaster//Event Calendar 2.0//EN
METHOD:PUBLISH
X-PUBLISHED-TTL:P3D
REFRESH-INTERVAL:P3D
CALSCALE:GREGORIAN
BEGIN:VEVENT
DTSTART:20220114T230000Z
DTEND:20220115T040000Z
X-MICROSOFT-CDO-ALLDAYEVENT:FALSE
SUMMARY:Algoma Visionary Awards Gala
DESCRIPTION:The AVA Gala recognizes individuals for their incredible efforts to achieve greatness in leadership\,\n\ncommunity engagement\, professional achievement\, volunteerism\, and mentoring in our community.\n\nIt's time to celebrate those who are making change and proving they really are the leaders of tomorrow!
X-ALT-DESC;FMTTYPE=text/html:<span data-slate-fragment="JTdCJTIyb2JqZWN0JTIyJTNBJTIyZG9jdW1lbnQlMjIlMkMlMjJkYXRhJTIyJTNBJTdCJTdEJTJDJTIybm9kZXMlMjIlM0ElNUIlN0IlMjJvYmplY3QlMjIlM0ElMjJibG9jayUyMiUyQyUyMnR5cGUlMjIlM0ElMjJwYXJhZ3JhcGglMjIlMkMlMjJkYXRhJTIyJTNBJTdCJTIyY2xhc3NOYW1lJTIyJTNBbnVsbCU3RCUyQyUyMm5vZGVzJTIyJTNBJTVCJTdCJTIyb2JqZWN0JTIyJTNBJTIydGV4dCUyMiUyQyUyMmxlYXZlcyUyMiUzQSU1QiU3QiUyMm9iamVjdCUyMiUzQSUyMmxlYWYlMjIlMkMlMjJ0ZXh0JTIyJTNBJTIyVGhlJTIwQVZBJTIwR2FsYSUyMHJlY29nbml6ZXMlMjBpbmRpdmlkdWFscyUyMGZvciUyMHRoZWlyJTIwaW5jcmVkaWJsZSUyMGVmZm9ydHMlMjB0byUyMGFjaGlldmUlMjBncmVhdG5lc3MlMjBpbiUyMGxlYWRlcnNoaXAlMkMlMjBjb21tdW5pdHklMjBlbmdhZ2VtZW50JTJDJTIwcHJvZmVzc2lvbmFsJTIwYWNoaWV2ZW1lbnQlMkMlMjB2b2x1bnRlZXJpc20lMkMlMjBhbmQlMjBtZW50b3JpbmclMjBpbiUyMG91ciUyMGNvbW11bml0eS4lMjBJdCdzJTIwdGltZSUyMHRvJTIwY2VsZWJyYXRlJTIwdGhvc2UlMjB3aG8lMjBhcmUlMjBtYWtpbmclMjBjaGFuZ2UlMjBhbmQlMjBwcm92aW5nJTIwdGhleSUyMHJlYWxseSUyMGFyZSUyMHRoZSUyMGxlYWRlcnMlMjBvZiUyMHRvbW9ycm93ISUyMiUyQyUyMm1hcmtzJTIyJTNBJTVCJTVEJTdEJTVEJTdEJTVEJTdEJTVEJTdE" style="white-space: pre\;">The AVA Gala recognizes individuals for their incredible efforts to achieve greatness in leadership\,<br />\ncommunity engagement\, professional achievement\, volunteerism\, and mentoring in our community.<br />\nIt&#39\;s time to celebrate those who are making change and proving they really are the leaders of tomorrow!</span>
LOCATION:
UID:e.2985.170
SEQUENCE:3
DTSTAMP:20260420T105905Z
URL:https://www.ssmcoc.com/events/details/algoma-visionary-awards-gala-170
END:VEVENT

END:VCALENDAR
